Workbook

Sheet 原数据
A1: USER_ID | B1: GAMEDOMAINID | C1: MAP | D1: CARCODE | E1: BESTTIME | F1: BESTSPEED | I1: 角色名 | J1: 服务器 | K1: 赛道 | L1: 车型 | M1: 最快成绩 | N1: 最快速度
A2: 冀B60953 | B2: 6002 | C2: 6 | D2: 1421 | E2: 89156 | F2: 326 | I2: =A2 -> 冀B60953 | J2: =VLOOKUP(B2,赛道信息!$H:$I,2,FALSE) -> 网通大区 | K2: =VLOOKUP(C2,赛道信息!$B:$C,2,FALSE) -> 十色霓虹 | L2: =VLOOKUP(D2,赛道信息!$E:$F,2,FALSE) -> Veneno | M2: =E2 -> 89156 | N2: =F2 -> 326
A3: 玉都o小鱼 | B3: 6002 | C3: 6 | D3: 1419 | E3: 90109 | F3: 322 | I3: =A3 -> 玉都o小鱼 | J3: =VLOOKUP(B3,赛道信息!$H:$I,2,FALSE) -> 网通大区 | K3: =VLOOKUP(C3,赛道信息!$B:$C,2,FALSE) -> 十色霓虹 | L3: =VLOOKUP(D3,赛道信息!$E:$F,2,FALSE) -> 未来 | M3: =E3 -> 90109 | N3: =F3 -> 322
A4: Hero灬在中 | B4: 6002 | C4: 6 | D4: 1393 | E4: 91775 | F4: 321 | I4: =A4 -> Hero灬在中 | J4: =VLOOKUP(B4,赛道信息!$H:$I,2,FALSE) -> 网通大区 | K4: =VLOOKUP(C4,赛道信息!$B:$C,2,FALSE) -> 十色霓虹 | L4: =VLOOKUP(D4,赛道信息!$E:$F,2,FALSE) -> 法拉利 | M4: =E4 -> 91775 | N4: =F4 -> 321
A5: 玉都o老狼 | B5: 6002 | C5: 6 | D5: 1421 | E5: 92609 | F5: 324 | I5: =A5 -> 玉都o老狼 | J5: =VLOOKUP(B5,赛道信息!$H:$I,2,FALSE) -> 网通大区 | K5: =VLOOKUP(C5,赛道信息!$B:$C,2,FALSE) -> 十色霓虹 | L5: =VLOOKUP(D5,赛道信息!$E:$F,2,FALSE) -> Veneno | M5: =E5 -> 92609 | N5: =F5 -> 324
A6: 玉都o乐叔 | B6: 6002 | C6: 6 | D6: 1421 | E6: 92844 | F6: 324 | I6: =A6 -> 玉都o乐叔 | J6: =VLOOKUP(B6,赛道信息!$H:$I,2,FALSE) -> 网通大区 | K6: =VLOOKUP(C6,赛道信息!$B:$C,2,FALSE) -> 十色霓虹 | L6: =VLOOKUP(D6,赛道信息!$E:$F,2,FALSE) -> Veneno | M6: =E6 -> 92844 | N6: =F6 -> 324
A7: 五灬六 | B7: 6002 | C7: 6 | D7: 1393 | E7: 93897 | F7: 321 | I7: =A7 -> 五灬六 | J7: =VLOOKUP(B7,赛道信息!$H:$I,2,FALSE) -> 网通大区 | K7: =VLOOKUP(C7,赛道信息!$B:$C,2,FALSE) -> 十色霓虹 | L7: =VLOOKUP(D7,赛道信息!$E:$F,2,FALSE) -> 法拉利 | M7: =E7 -> 93897 | N7: =F7 -> 321
A8: 道奇911 | B8: 6002 | C8: 6 | D8: 1419 | E8: 94406 | F8: 322 | I8: =A8 -> 道奇911 | J8: =VLOOKUP(B8,赛道信息!$H:$I,2,FALSE) -> 网通大区 | K8: =VLOOKUP(C8,赛道信息!$B:$C,2,FALSE) -> 十色霓虹 | L8: =VLOOKUP(D8,赛道信息!$E:$F,2,FALSE) -> 未来 | M8: =E8 -> 94406 | N8: =F8 -> 322
A9: 鲁U保10洁 | B9: 6002 | C9: 6 | D9: 1422 | E9: 97078 | F9: 306 | I9: =A9 -> 鲁U保10洁 | J9: =VLOOKUP(B9,赛道信息!$H:$I,2,FALSE) -> 网通大区 | K9: =VLOOKUP(C9,赛道信息!$B:$C,2,FALSE) -> 十色霓虹 | L9: =VLOOKUP(D9,赛道信息!$E:$F,2,FALSE) -> 现代 | M9: =E9 -> 97078 | N9: =F9 -> 306
A10: 雷诺丨丫丫 | B10: 6002 | C10: 6 | D10: 1421 | E10: 97985 | F10: 325 | I10: =A10 -> 雷诺丨丫丫 | J10: =VLOOKUP(B10,赛道信息!$H:$I,2,FALSE) -> 网通大区 | K10: =VLOOKUP(C10,赛道信息!$B:$C,2,FALSE) -> 十色霓虹 | L10: =VLOOKUP(D10,赛道信息!$E:$F,2,FALSE) -> Veneno | M10: =E10 -> 97985 | N10: =F10 -> 325
A11: 雷诺丨莫邪 | B11: 6002 | C11: 6 | D11: 1421 | E11: 98952 | F11: 324 | I11: =A11 -> 雷诺丨莫邪 | J11: =VLOOKUP(B11,赛道信息!$H:$I,2,FALSE) -> 网通大区 | K11: =VLOOKUP(C11,赛道信息!$B:$C,2,FALSE) -> 十色霓虹 | L11: =VLOOKUP(D11,赛道信息!$E:$F,2,FALSE) -> Veneno | M11: =E11 -> 98952 | N11: =F11 -> 324
A12: 蒙AYTAXI | B12: 6002 | C12: 6 | D12: 1421 | E12: 99045 | F12: 323 | I12: =A12 -> 蒙AYTAXI | J12: =VLOOKUP(B12,赛道信息!$H:$I,2,FALSE) -> 网通大区 | K12: =VLOOKUP(C12,赛道信息!$B:$C,2,FALSE) -> 十色霓虹 | L12: =VLOOKUP(D12,赛道信息!$E:$F,2,FALSE) -> Veneno | M12: =E12 -> 99045 | N12: =F12 -> 323
A13: 玉都o閃電 | B13: 6002 | C13: 6 | D13: 1419 | E13: 99907 | F13: 318 | I13: =A13 -> 玉都o閃電 | J13: =VLOOKUP(B13,赛道信息!$H:$I,2,FALSE) -> 网通大区 | K13: =VLOOKUP(C13,赛道信息!$B:$C,2,FALSE) -> 十色霓虹 | L13: =VLOOKUP(D13,赛道信息!$E:$F,2,FALSE) -> 未来 | M13: =E13 -> 99907 | N13: =F13 -> 318
... A678: 雷诺丨晓虎 | B678: 6002 | C678: 101 | D678: 1424 | E678: 42385 | F678: 291 | I678: =A678 -> 雷诺丨晓虎 | J678: =VLOOKUP(B678,赛道信息!$H:$I,2,FALSE) -> 网通大区 | K678: =VLOOKUP(C678,赛道信息!$B:$C,2,FALSE) -> 秒义速降 | L678: =VLOOKUP(D678,赛道信息!$E:$F,2,FALSE) -> i8s | M678: =E678 -> 42385 | N678: =F678 -> 291
A679: 476041 | B679: 6002 | C679: 101 | D679: 1408 | E679: 42385 | F679: 302 | I679: =A679 -> 476041 | J679: =VLOOKUP(B679,赛道信息!$H:$I,2,FALSE) -> 网通大区 | K679: =VLOOKUP(C679,赛道信息!$B:$C,2,FALSE) -> 秒义速降 | L679: =VLOOKUP(D679,赛道信息!$E:$F,2,FALSE) -> Laraki | M679: =E679 -> 42385 | N679: =F679 -> 302
A680: 兰博v基尼 | B680: 6002 | C680: 101 | D680: 1421 | E680: 42401 | F680: 270 | I680: =A680 -> 兰博v基尼 | J680: =VLOOKUP(B680,赛道信息!$H:$I,2,FALSE) -> 网通大区 | K680: =VLOOKUP(C680,赛道信息!$B:$C,2,FALSE) -> 秒义速降 | L680: =VLOOKUP(D680,赛道信息!$E:$F,2,FALSE) -> Veneno | M680: =E680 -> 42401 | N680: =F680 -> 270
A681: 雷诺丨球神 | B681: 6002 | C681: 101 | D681: 1418 | E681: 42416 | F681: 283 | I681: =A681 -> 雷诺丨球神 | J681: =VLOOKUP(B681,赛道信息!$H:$I,2,FALSE) -> 网通大区 | K681: =VLOOKUP(C681,赛道信息!$B:$C,2,FALSE) -> 秒义速降 | L681: =VLOOKUP(D681,赛道信息!$E:$F,2,FALSE) -> 荣耀 | M681: =E681 -> 42416 | N681: =F681 -> 283
A682: 美丽的瞬间 | B682: 6002 | C682: 101 | D682: 1418 | E682: 42417 | F682: 293 | I682: =A682 -> 美丽的瞬间 | J682: =VLOOKUP(B682,赛道信息!$H:$I,2,FALSE) -> 网通大区 | K682: =VLOOKUP(C682,赛道信息!$B:$C,2,FALSE) -> 秒义速降 | L682: =VLOOKUP(D682,赛道信息!$E:$F,2,FALSE) -> 荣耀 | M682: =E682 -> 42417 | N682: =F682 -> 293
A683: 6546461 | B683: 6002 | C683: 101 | D683: 1412 | E683: 42422 | F683: 281 | I683: =A683 -> 6546461 | J683: =VLOOKUP(B683,赛道信息!$H:$I,2,FALSE) -> 网通大区 | K683: =VLOOKUP(C683,赛道信息!$B:$C,2,FALSE) -> 秒义速降 | L683: =VLOOKUP(D683,赛道信息!$E:$F,2,FALSE) -> 科尼塞克PD | M683: =E683 -> 42422 | N683: =F683 -> 281
A684: 帅气灬车皇 | B684: 6002 | C684: 101 | D684: 1421 | E684: 42432 | F684: 291 | I684: =A684 -> 帅气灬车皇 | J684: =VLOOKUP(B684,赛道信息!$H:$I,2,FALSE) -> 网通大区 | K684: =VLOOKUP(C684,赛道信息!$B:$C,2,FALSE) -> 秒义速降 | L684: =VLOOKUP(D684,赛道信息!$E:$F,2,FALSE) -> Veneno | M684: =E684 -> 42432 | N684: =F684 -> 291
A685: 波多Ye介意 | B685: 6002 | C685: 101 | D685: 1421 | E685: 42432 | F685: 284 | I685: =A685 -> 波多Ye介意 | J685: =VLOOKUP(B685,赛道信息!$H:$I,2,FALSE) -> 网通大区 | K685: =VLOOKUP(C685,赛道信息!$B:$C,2,FALSE) -> 秒义速降 | L685: =VLOOKUP(D685,赛道信息!$E:$F,2,FALSE) -> Veneno | M685: =E685 -> 42432 | N685: =F685 -> 284
A686: 风起尘埃落 | B686: 6002 | C686: 101 | D686: 1424 | E686: 42433 | F686: 293 | I686: =A686 -> 风起尘埃落 | J686: =VLOOKUP(B686,赛道信息!$H:$I,2,FALSE) -> 网通大区 | K686: =VLOOKUP(C686,赛道信息!$B:$C,2,FALSE) -> 秒义速降 | L686: =VLOOKUP(D686,赛道信息!$E:$F,2,FALSE) -> i8s | M686: =E686 -> 42433 | N686: =F686 -> 293
A687: 警vs匪 | B687: 6002 | C687: 101 | D687: 1422 | E687: 42448 | F687: 281 | I687: =A687 -> 警vs匪 | J687: =VLOOKUP(B687,赛道信息!$H:$I,2,FALSE) -> 网通大区 | K687: =VLOOKUP(C687,赛道信息!$B:$C,2,FALSE) -> 秒义速降 | L687: =VLOOKUP(D687,赛道信息!$E:$F,2,FALSE) -> 现代 | M687: =E687 -> 42448 | N687: =F687 -> 281
A688: 逆袭灬军刀 | B688: 6002 | C688: 101 | D688: 1419 | E688: 42469 | F688: 292 | I688: =A688 -> 逆袭灬军刀 | J688: =VLOOKUP(B688,赛道信息!$H:$I,2,FALSE) -> 网通大区 | K688: =VLOOKUP(C688,赛道信息!$B:$C,2,FALSE) -> 秒义速降 | L688: =VLOOKUP(D688,赛道信息!$E:$F,2,FALSE) -> 未来 | M688: =E688 -> 42469 | N688: =F688 -> 292
A689: 大鹏鹏02 | B689: 6002 | C689: 101 | D689: 1421 | E689: 42479 | F689: 290 | I689: =A689 -> 大鹏鹏02 | J689: =VLOOKUP(B689,赛道信息!$H:$I,2,FALSE) -> 网通大区 | K689: =VLOOKUP(C689,赛道信息!$B:$C,2,FALSE) -> 秒义速降 | L689: =VLOOKUP(D689,赛道信息!$E:$F,2,FALSE) -> Veneno | M689: =E689 -> 42479 | N689: =F689 -> 290
A690: UnfairCity | B690: 6002 | C690: 101 | D690: 1421 | E690: 42541 | F690: 299 | I690: =A690 -> UnfairCity | J690: =VLOOKUP(B690,赛道信息!$H:$I,2,FALSE) -> 网通大区 | K690: =VLOOKUP(C690,赛道信息!$B:$C,2,FALSE) -> 秒义速降 | L690: =VLOOKUP(D690,赛道信息!$E:$F,2,FALSE) -> Veneno | M690: =E690 -> 42541 | N690: =F690 -> 299
A691: 辽GG警0008 | B691: 6002 | C691: 101 | D691: 1418 | E691: 42542 | F691: 288 | I691: =A691 -> 辽GG警0008 | J691: =VLOOKUP(B691,赛道信息!$H:$I,2,FALSE) -> 网通大区 | K691: =VLOOKUP(C691,赛道信息!$B:$C,2,FALSE) -> 秒义速降 | L691: =VLOOKUP(D691,赛道信息!$E:$F,2,FALSE) -> 荣耀 | M691: =E691 -> 42542 | N691: =F691 -> 288
A692: 秋天回不来 | B692: 6002 | C692: 101 | D692: 1421 | E692: 42557 | F692: 290 | I692: =A692 -> 秋天回不来 | J692: =VLOOKUP(B692,赛道信息!$H:$I,2,FALSE) -> 网通大区 | K692: =VLOOKUP(C692,赛道信息!$B:$C,2,FALSE) -> 秒义速降 | L692: =VLOOKUP(D692,赛道信息!$E:$F,2,FALSE) -> Veneno | M692: =E692 -> 42557 | N692: =F692 -> 290
A693: 豫D789z6 | B693: 6002 | C693: 101 | D693: 1418 | E693: 42557 | F693: 286 | I693: =A693 -> 豫D789z6 | J693: =VLOOKUP(B693,赛道信息!$H:$I,2,FALSE) -> 网通大区 | K693: =VLOOKUP(C693,赛道信息!$B:$C,2,FALSE) -> 秒义速降 | L693: =VLOOKUP(D693,赛道信息!$E:$F,2,FALSE) -> 荣耀 | M693: =E693 -> 42557 | N693: =F693 -> 286
A694: cbd1997456 | B694: 6002 | C694: 101 | D694: 1418 | E694: 42572 | F694: 288 | I694: =A694 -> cbd1997456 | J694: =VLOOKUP(B694,赛道信息!$H:$I,2,FALSE) -> 网通大区 | K694: =VLOOKUP(C694,赛道信息!$B:$C,2,FALSE) -> 秒义速降 | L694: =VLOOKUP(D694,赛道信息!$E:$F,2,FALSE) -> 荣耀 | M694: =E694 -> 42572 | N694: =F694 -> 288
A695: 丶光之速丿 | B695: 6002 | C695: 101 | D695: 1419 | E695: 42572 | F695: 288 | I695: =A695 -> 丶光之速丿 | J695: =VLOOKUP(B695,赛道信息!$H:$I,2,FALSE) -> 网通大区 | K695: =VLOOKUP(C695,赛道信息!$B:$C,2,FALSE) -> 秒义速降 | L695: =VLOOKUP(D695,赛道信息!$E:$F,2,FALSE) -> 未来 | M695: =E695 -> 42572 | N695: =F695 -> 288
... A724: 闪烁大Q | B724: 6002 | C724: 101 | D724: 1421 | E724: 42985 | F724: 293 | I724: =A724 -> 闪烁大Q | J724: =VLOOKUP(B724,赛道信息!$H:$I,2,FALSE) -> 网通大区 | K724: =VLOOKUP(C724,赛道信息!$B:$C,2,FALSE) -> 秒义速降 | L724: =VLOOKUP(D724,赛道信息!$E:$F,2,FALSE) -> Veneno | M724: =E724 -> 42985 | N724: =F724 -> 293
A725: 3254697 | B725: 6002 | C725: 101 | D725: 1419 | E725: 42994 | F725: 282 | I725: =A725 -> 3254697 | J725: =VLOOKUP(B725,赛道信息!$H:$I,2,FALSE) -> 网通大区 | K725: =VLOOKUP(C725,赛道信息!$B:$C,2,FALSE) -> 秒义速降 | L725: =VLOOKUP(D725,赛道信息!$E:$F,2,FALSE) -> 未来 | M725: =E725 -> 42994 | N725: =F725 -> 282
A726: 暴怒迈克 | B726: 6002 | C726: 101 | D726: 1418 | E726: 42994 | F726: 296 | I726: =A726 -> 暴怒迈克 | J726: =VLOOKUP(B726,赛道信息!$H:$I,2,FALSE) -> 网通大区 | K726: =VLOOKUP(C726,赛道信息!$B:$C,2,FALSE) -> 秒义速降 | L726: =VLOOKUP(D726,赛道信息!$E:$F,2,FALSE) -> 荣耀 | M726: =E726 -> 42994 | N726: =F726 -> 296
A727: 唯美洛丽塔 | B727: 6002 | C727: 101 | D727: 1371 | E727: 43000 | F727: 288 | I727: =A727 -> 唯美洛丽塔 | J727: =VLOOKUP(B727,赛道信息!$H:$I,2,FALSE) -> 网通大区 | K727: =VLOOKUP(C727,赛道信息!$B:$C,2,FALSE) -> 秒义速降 | L727: =VLOOKUP(D727,赛道信息!$E:$F,2,FALSE) -> 奔驰 | M727: =E727 -> 43000 | N727: =F727 -> 288
A728: 小龙VS战神 | B728: 6002 | C728: 101 | D728: 1418 | E728: 43032 | F728: 287 | I728: =A728 -> 小龙VS战神 | J728: =VLOOKUP(B728,赛道信息!$H:$I,2,FALSE) -> 网通大区 | K728: =VLOOKUP(C728,赛道信息!$B:$C,2,FALSE) -> 秒义速降 | L728: =VLOOKUP(D728,赛道信息!$E:$F,2,FALSE) -> 荣耀 | M728: =E728 -> 43032 | N728: =F728 -> 287
A729: 口冂匚 | B729: 6002 | C729: 101 | D729: 1417 | E729: 43056 | F729: 279 | I729: =A729 -> 口冂匚 | J729: =VLOOKUP(B729,赛道信息!$H:$I,2,FALSE) -> 网通大区 | K729: =VLOOKUP(C729,赛道信息!$B:$C,2,FALSE) -> 秒义速降 | L729: =VLOOKUP(D729,赛道信息!$E:$F,2,FALSE) -> 速8-AMG | M729: =E729 -> 43056 | N729: =F729 -> 279
A730: 墓后煮屎人 | B730: 6002 | C730: 101 | D730: 1412 | E730: 43056 | F730: 284 | I730: =A730 -> 墓后煮屎人 | J730: =VLOOKUP(B730,赛道信息!$H:$I,2,FALSE) -> 网通大区 | K730: =VLOOKUP(C730,赛道信息!$B:$C,2,FALSE) -> 秒义速降 | L730: =VLOOKUP(D730,赛道信息!$E:$F,2,FALSE) -> 科尼塞克PD | M730: =E730 -> 43056 | N730: =F730 -> 284
A731: 一丨發丨一 | B731: 6002 | C731: 101 | D731: 1425 | E731: 43057 | F731: 278 | I731: =A731 -> 一丨發丨一 | J731: =VLOOKUP(B731,赛道信息!$H:$I,2,FALSE) -> 网通大区 | K731: =VLOOKUP(C731,赛道信息!$B:$C,2,FALSE) -> 秒义速降 | L731: =VLOOKUP(D731,赛道信息!$E:$F,2,FALSE) -> 淑女 | M731: =E731 -> 43057 | N731: =F731 -> 278
A732: 辽V00923 | B732: 6002 | C732: 101 | D732: 1421 | E732: 43072 | F732: 292 | I732: =A732 -> 辽V00923 | J732: =VLOOKUP(B732,赛道信息!$H:$I,2,FALSE) -> 网通大区 | K732: =VLOOKUP(C732,赛道信息!$B:$C,2,FALSE) -> 秒义速降 | L732: =VLOOKUP(D732,赛道信息!$E:$F,2,FALSE) -> Veneno | M732: =E732 -> 43072 | N732: =F732 -> 292
...

Sheet 分服TOP
A1: USER_ID | B1: GAMEDOMAINID | C1: MAP | D1: CARCODE | E1: BESTTIME | F1: BESTSPEED | I1: 角色名 | J1: 服务器 | K1: 地图 | L1: 车型 | M1: 最快成绩 | N1: 最快车速
A2: 冀B60953 | B2: 6002 | C2: 6 | D2: 1421 | E2: 89156 | F2: 326 | I2: =A2 -> 冀B60953 | J2: =VLOOKUP(B2,赛道信息!$H:$I,2,FALSE) -> 网通大区 | K2: =VLOOKUP(C2,赛道信息!$B$1:$C$37,2,FALSE) -> 十色霓虹 | L2: =VLOOKUP(D2,赛道信息!$E$1:$F$200,2,FALSE) -> Veneno | M2: =E2 -> 89156 | N2: =F2 -> 326
A3: 冰舞凤凰 | B3: 6004 | C3: 6 | D3: 1421 | E3: 87563 | F3: 324 | I3: =A3 -> 冰舞凤凰 | J3: =VLOOKUP(B3,赛道信息!$H:$I,2,FALSE) -> 电信2/新电信 | K3: =VLOOKUP(C3,赛道信息!$B$1:$C$37,2,FALSE) -> 十色霓虹 | L3: =VLOOKUP(D3,赛道信息!$E$1:$F$200,2,FALSE) -> Veneno | M3: =E3 -> 87563 | N3: =F3 -> 324
A4: WheThesky | B4: 6005 | C4: 6 | D4: 1421 | E4: 86784 | F4: 324 | I4: =A4 -> WheThesky | J4: =VLOOKUP(B4,赛道信息!$H:$I,2,FALSE) -> 电信1 | K4: =VLOOKUP(C4,赛道信息!$B$1:$C$37,2,FALSE) -> 十色霓虹 | L4: =VLOOKUP(D4,赛道信息!$E$1:$F$200,2,FALSE) -> Veneno | M4: =E4 -> 86784 | N4: =F4 -> 324
A5: BenZ丶晓旭 | B5: 6002 | C5: 7 | D5: 1421 | E5: 88515 | F5: 324 | I5: =A5 -> BenZ丶晓旭 | J5: =VLOOKUP(B5,赛道信息!$H:$I,2,FALSE) -> 网通大区 | K5: =VLOOKUP(C5,赛道信息!$B$1:$C$37,2,FALSE) -> 十色霓虹逆行 | L5: =VLOOKUP(D5,赛道信息!$E$1:$F$200,2,FALSE) -> Veneno | M5: =E5 -> 88515 | N5: =F5 -> 324
A6: Dasmeer | B6: 6004 | C6: 7 | D6: 1421 | E6: 87922 | F6: 324 | I6: =A6 -> Dasmeer | J6: =VLOOKUP(B6,赛道信息!$H:$I,2,FALSE) -> 电信2/新电信 | K6: =VLOOKUP(C6,赛道信息!$B$1:$C$37,2,FALSE) -> 十色霓虹逆行 | L6: =VLOOKUP(D6,赛道信息!$E$1:$F$200,2,FALSE) -> Veneno | M6: =E6 -> 87922 | N6: =F6 -> 324
A7: 小当家 | B7: 6005 | C7: 7 | D7: 1421 | E7: 86206 | F7: 325 | I7: =A7 -> 小当家 | J7: =VLOOKUP(B7,赛道信息!$H:$I,2,FALSE) -> 电信1 | K7: =VLOOKUP(C7,赛道信息!$B$1:$C$37,2,FALSE) -> 十色霓虹逆行 | L7: =VLOOKUP(D7,赛道信息!$E$1:$F$200,2,FALSE) -> Veneno | M7: =E7 -> 86206 | N7: =F7 -> 325
A8: BenZ丶晓旭 | B8: 6002 | C8: 8 | D8: 1421 | E8: 108764 | F8: 325 | I8: =A8 -> BenZ丶晓旭 | J8: =VLOOKUP(B8,赛道信息!$H:$I,2,FALSE) -> 网通大区 | K8: =VLOOKUP(C8,赛道信息!$B$1:$C$37,2,FALSE) -> 霓虹飞跃 | L8: =VLOOKUP(D8,赛道信息!$E$1:$F$200,2,FALSE) -> Veneno | M8: =E8 -> 108764 | N8: =F8 -> 325
A9: Dasmeer | B9: 6004 | C9: 8 | D9: 1421 | E9: 108234 | F9: 324 | I9: =A9 -> Dasmeer | J9: =VLOOKUP(B9,赛道信息!$H:$I,2,FALSE) -> 电信2/新电信 | K9: =VLOOKUP(C9,赛道信息!$B$1:$C$37,2,FALSE) -> 霓虹飞跃 | L9: =VLOOKUP(D9,赛道信息!$E$1:$F$200,2,FALSE) -> Veneno | M9: =E9 -> 108234 | N9: =F9 -> 324
A10: 風驰電掣 | B10: 6005 | C10: 8 | D10: 1421 | E10: 105831 | F10: 325 | I10: =A10 -> 風驰電掣 | J10: =VLOOKUP(B10,赛道信息!$H:$I,2,FALSE) -> 电信1 | K10: =VLOOKUP(C10,赛道信息!$B$1:$C$37,2,FALSE) -> 霓虹飞跃 | L10: =VLOOKUP(D10,赛道信息!$E$1:$F$200,2,FALSE) -> Veneno | M10: =E10 -> 105831 | N10: =F10 -> 325
A11: 玉都o小鱼 | B11: 6002 | C11: 9 | D11: 1419 | E11: 92641 | F11: 321 | I11: =A11 -> 玉都o小鱼 | J11: =VLOOKUP(B11,赛道信息!$H:$I,2,FALSE) -> 网通大区 | K11: =VLOOKUP(C11,赛道信息!$B$1:$C$37,2,FALSE) -> 雪映霓虹逆行 | L11: =VLOOKUP(D11,赛道信息!$E$1:$F$200,2,FALSE) -> 未来 | M11: =E11 -> 92641 | N11: =F11 -> 321
A12: CrazyMouse | B12: 6004 | C12: 9 | D12: 1421 | E12: 90059 | F12: 323 | I12: =A12 -> CrazyMouse | J12: =VLOOKUP(B12,赛道信息!$H:$I,2,FALSE) -> 电信2/新电信 | K12: =VLOOKUP(C12,赛道信息!$B$1:$C$37,2,FALSE) -> 雪映霓虹逆行 | L12: =VLOOKUP(D12,赛道信息!$E$1:$F$200,2,FALSE) -> Veneno | M12: =E12 -> 90059 | N12: =F12 -> 323
A13: 恶魔小穆丶 | B13: 6005 | C13: 9 | D13: 1409 | E13: 90578 | F13: 321 | I13: =A13 -> 恶魔小穆丶 | J13: =VLOOKUP(B13,赛道信息!$H:$I,2,FALSE) -> 电信1 | K13: =VLOOKUP(C13,赛道信息!$B$1:$C$37,2,FALSE) -> 雪映霓虹逆行 | L13: =VLOOKUP(D13,赛道信息!$E$1:$F$200,2,FALSE) -> 巨蜥S | M13: =E13 -> 90578 | N13: =F13 -> 321
... A109: 安第斯之风 | B109: 6005 | C109: 113 | D109: 1131 | E109: 116158 | F109: 230 | I109: =A109 -> 安第斯之风 | J109: =VLOOKUP(B109,赛道信息!$H:$I,2,FALSE) -> 电信1 | K109: =VLOOKUP(C109,赛道信息!$B$1:$C$37,2,FALSE) -> 尹吕陂速降 | L109: =VLOOKUP(D109,赛道信息!$E$1:$F$200,2,FALSE) -> GT-APEX | M109: =E109 -> 116158 | N109: =F109 -> 230

Sheet 赛道信息
B1: 赛道代码 | C1: 赛道名称 | E1: 代码 | F1: 道 具 名 称 | H1: GAMEDOMAINID | I1: 服务器
B2: 6 | C2: 十色霓虹 | E2: 1002 | F2: 火星 | H2: 6002 | I2: 网通大区
B3: 7 | C3: 十色霓虹逆行 | E3: 1003 | F3: 水星 | H3: 6004 | I3: 电信2/新电信
B4: 8 | C4: 霓虹飞跃 | E4: 1005 | F4: 乐途 | H4: 6005 | I4: 电信1
B5: 9 | C5: 雪映霓虹逆行 | E5: 1007 | F5: 风神
B6: 10 | C6: 雪映霓虹 | E6: 1009 | F6: 海王星
B7: 11 | C7: 弯曲草地 | E7: 1010 | F7: 金星
B8: 12 | C8: 弯曲草地逆行 | E8: 1011 | F8: 锐虎
B9: 14 | C9: 飘雪草地逆行 | E9: 1012 | F9: 锦程
B10: 15 | C10: 飘雪草地 | E10: 1013 | F10: 赤虎
B11: 16 | C11: 悬崖追逐 | E11: 1014 | F11: 炫速
B12: 17 | C12: 悬崖追逐逆行 | E12: 1015 | F12: 迅驰
B13: 21 | C13: 极速传说 | E13: 1102 | F13: 射手
B14: 26 | C14: 江南 | E14: 1104 | F14: 猎户
B15: 31 | C15: 极速越野 | E15: 1105 | F15: 巨蟹
B16: 32 | C16: 越野狂飚 | E16: 1107 | F16: 摩羯
... B37: 113 | C37: 尹吕陂速降 | E37: 1209 | F37: 幻鹰
E38: 1210 | F38: 龙腾
E39: 1211 | F39: 疾锋
E40: 1301 | F40: 帕里斯
E41: 1302 | F41: 米诺斯
E42: 1303 | F42: 的士
E43: 1304 | F43: 布莱特
E44: 1305 | F44: 厄里斯
E45: 1306 | F45: CTR-PDII
E46: 1307 | F46: CTR-S3
E47: 1308 | F47: 蓝瑟Ⅰ
E48: 1309 | F48: F330II
E49: 1310 | F49: 俊特
... E110: 1378 | F110: 土豪·金
E111: 1379 | F111: 911
E112: 1380 | F112: POLO
E113: 1381 | F113: GT86
E114: 1382 | F114: A8
E115: 1383 | F115: GT86-PD
E116: 1384 | F116: Zonda
E117: 1385 | F117: Zonda-pd
E118: 1386 | F118: 迈凯伦
E119: 1387 | F119: 科尼塞克
E120: 1949 | F120: 红旗·领袖
...
