Workbook

Sheet 原数据
A1: USER_ID | B1: GAMEDOMAINID | C1: MAP | D1: CARCODE | E1: BESTTIME | F1: BESTSPEED | I1: 角色名 | J1: 服务器 | K1: 赛道 | L1: 车型 | M1: 最快成绩 | N1: 最快速度
A2: 冀B60953 | B2: 6002 | C2: 6 | D2: 1421 | E2: 89156 | F2: 326 | I2: =A2 -> 冀B60953 | J2: =VLOOKUP(B2,赛道信息!$H:$I,2,FALSE) -> 网通大区 | K2: =VLOOKUP(C2,赛道信息!$B:$C,2,FALSE) -> 十色霓虹 | L2: =VLOOKUP(D2,赛道信息!$E:$F,2,FALSE) -> Veneno | M2: =E2 -> 89156 | N2: =F2 -> 326
A3: 玉都o小鱼 | B3: 6002 | C3: 6 | D3: 1419 | E3: 90109 | F3: 322 | I3: =A3 -> 玉都o小鱼 | J3: =VLOOKUP(B3,赛道信息!$H:$I,2,FALSE) -> 网通大区 | K3: =VLOOKUP(C3,赛道信息!$B:$C,2,FALSE) -> 十色霓虹 | L3: =VLOOKUP(D3,赛道信息!$E:$F,2,FALSE) -> 未来 | M3: =E3 -> 90109 | N3: =F3 -> 322
A4: Hero灬在中 | B4: 6002 | C4: 6 | D4: 1393 | E4: 91775 | F4: 321 | I4: =A4 -> Hero灬在中 | J4: =VLOOKUP(B4,赛道信息!$H:$I,2,FALSE) -> 网通大区 | K4: =VLOOKUP(C4,赛道信息!$B:$C,2,FALSE) -> 十色霓虹 | L4: =VLOOKUP(D4,赛道信息!$E:$F,2,FALSE) -> 法拉利 | M4: =E4 -> 91775 | N4: =F4 -> 321
A5: 玉都o老狼 | B5: 6002 | C5: 6 | D5: 1421 | E5: 92609 | F5: 324 | I5: =A5 -> 玉都o老狼 | J5: =VLOOKUP(B5,赛道信息!$H:$I,2,FALSE) -> 网通大区 | K5: =VLOOKUP(C5,赛道信息!$B:$C,2,FALSE) -> 十色霓虹 | L5: =VLOOKUP(D5,赛道信息!$E:$F,2,FALSE) -> Veneno | M5: =E5 -> 92609 | N5: =F5 -> 324
A6: 玉都o乐叔 | B6: 6002 | C6: 6 | D6: 1421 | E6: 92844 | F6: 324 | I6: =A6 -> 玉都o乐叔 | J6: =VLOOKUP(B6,赛道信息!$H:$I,2,FALSE) -> 网通大区 | K6: =VLOOKUP(C6,赛道信息!$B:$C,2,FALSE) -> 十色霓虹 | L6: =VLOOKUP(D6,赛道信息!$E:$F,2,FALSE) -> Veneno | M6: =E6 -> 92844 | N6: =F6 -> 324
A7: 五灬六 | B7: 6002 | C7: 6 | D7: 1393 | E7: 93897 | F7: 321 | I7: =A7 -> 五灬六 | J7: =VLOOKUP(B7,赛道信息!$H:$I,2,FALSE) -> 网通大区 | K7: =VLOOKUP(C7,赛道信息!$B:$C,2,FALSE) -> 十色霓虹 | L7: =VLOOKUP(D7,赛道信息!$E:$F,2,FALSE) -> 法拉利 | M7: =E7 -> 93897 | N7: =F7 -> 321
A8: 道奇911 | B8: 6002 | C8: 6 | D8: 1419 | E8: 94406 | F8: 322 | I8: =A8 -> 道奇911 | J8: =VLOOKUP(B8,赛道信息!$H:$I,2,FALSE) -> 网通大区 | K8: =VLOOKUP(C8,赛道信息!$B:$C,2,FALSE) -> 十色霓虹 | L8: =VLOOKUP(D8,赛道信息!$E:$F,2,FALSE) -> 未来 | M8: =E8 -> 94406 | N8: =F8 -> 322
A9: 鲁U保10洁 | B9: 6002 | C9: 6 | D9: 1422 | E9: 97078 | F9: 306 | I9: =A9 -> 鲁U保10洁 | J9: =VLOOKUP(B9,赛道信息!$H:$I,2,FALSE) -> 网通大区 | K9: =VLOOKUP(C9,赛道信息!$B:$C,2,FALSE) -> 十色霓虹 | L9: =VLOOKUP(D9,赛道信息!$E:$F,2,FALSE) -> 现代 | M9: =E9 -> 97078 | N9: =F9 -> 306
A10: 雷诺丨丫丫 | B10: 6002 | C10: 6 | D10: 1421 | E10: 97985 | F10: 325 | I10: =A10 -> 雷诺丨丫丫 | J10: =VLOOKUP(B10,赛道信息!$H:$I,2,FALSE) -> 网通大区 | K10: =VLOOKUP(C10,赛道信息!$B:$C,2,FALSE) -> 十色霓虹 | L10: =VLOOKUP(D10,赛道信息!$E:$F,2,FALSE) -> Veneno | M10: =E10 -> 97985 | N10: =F10 -> 325
A11: 雷诺丨莫邪 | B11: 6002 | C11: 6 | D11: 1421 | E11: 98952 | F11: 324 | I11: =A11 -> 雷诺丨莫邪 | J11: =VLOOKUP(B11,赛道信息!$H:$I,2,FALSE) -> 网通大区 | K11: =VLOOKUP(C11,赛道信息!$B:$C,2,FALSE) -> 十色霓虹 | L11: =VLOOKUP(D11,赛道信息!$E:$F,2,FALSE) -> Veneno | M11: =E11 -> 98952 | N11: =F11 -> 324
A12: 蒙AYTAXI | B12: 6002 | C12: 6 | D12: 1421 | E12: 99045 | F12: 323 | I12: =A12 -> 蒙AYTAXI | J12: =VLOOKUP(B12,赛道信息!$H:$I,2,FALSE) -> 网通大区 | K12: =VLOOKUP(C12,赛道信息!$B:$C,2,FALSE) -> 十色霓虹 | L12: =VLOOKUP(D12,赛道信息!$E:$F,2,FALSE) -> Veneno | M12: =E12 -> 99045 | N12: =F12 -> 323
A13: 玉都o閃電 | B13: 6002 | C13: 6 | D13: 1419 | E13: 99907 | F13: 318 | I13: =A13 -> 玉都o閃電 | J13: =VLOOKUP(B13,赛道信息!$H:$I,2,FALSE) -> 网通大区 | K13: =VLOOKUP(C13,赛道信息!$B:$C,2,FALSE) -> 十色霓虹 | L13: =VLOOKUP(D13,赛道信息!$E:$F,2,FALSE) -> 未来 | M13: =E13 -> 99907 | N13: =F13 -> 318
... A678: 雷诺丨晓虎 | B678: 6002 | C678: 101 | D678: 1424 | E678: 42385 | F678: 291 | I678: =A678 -> 雷诺丨晓虎 | J678: =VLOOKUP(B678,赛道信息!$H:$I,2,FALSE) -> 网通大区 | K678: =VLOOKUP(C678,赛道信息!$B:$C,2,FALSE) -> 秒义速降 | L678: =VLOOKUP(D678,赛道信息!$E:$F,2,FALSE) -> i8s | M678: =E678 -> 42385 | N678: =F678 -> 291
A679: 476041 | B679: 6002 | C679: 101 | D679: 1408 | E679: 42385 | F679: 302 | I679: =A679 -> 476041 | J679: =VLOOKUP(B679,赛道信息!$H:$I,2,FALSE) -> 网通大区 | K679: =VLOOKUP(C679,赛道信息!$B:$C,2,FALSE) -> 秒义速降 | L679: =VLOOKUP(D679,赛道信息!$E:$F,2,FALSE) -> Laraki | M679: =E679 -> 42385 | N679: =F679 -> 302
A680: 兰博v基尼 | B680: 6002 | C680: 101 | D680: 1421 | E680: 42401 | F680: 270 | I680: =A680 -> 兰博v基尼 | J680: =VLOOKUP(B680,赛道信息!$H:$I,2,FALSE) -> 网通大区 | K680: =VLOOKUP(C680,赛道信息!$B:$C,2,FALSE) -> 秒义速降 | L680: =VLOOKUP(D680,赛道信息!$E:$F,2,FALSE) -> Veneno | M680: =E680 -> 42401 | N680: =F680 -> 270
A681: 雷诺丨球神 | B681: 6002 | C681: 101 | D681: 1418 | E681: 42416 | F681: 283 | I681: =A681 -> 雷诺丨球神 | J681: =VLOOKUP(B681,赛道信息!$H:$I,2,FALSE) -> 网通大区 | K681: =VLOOKUP(C681,赛道信息!$B:$C,2,FALSE) -> 秒义速降 | L681: =VLOOKUP(D681,赛道信息!$E:$F,2,FALSE) -> 荣耀 | M681: =E681 -> 42416 | N681: =F681 -> 283
A682: 美丽的瞬间 | B682: 6002 | C682: 101 | D682: 1418 | E682: 42417 | F682: 293 | I682: =A682 -> 美丽的瞬间 | J682: =VLOOKUP(B682,赛道信息!$H:$I,2,FALSE) -> 网通大区 | K682: =VLOOKUP(C682,赛道信息!$B:$C,2,FALSE) -> 秒义速降 | L682: =VLOOKUP(D682,赛道信息!$E:$F,2,FALSE) -> 荣耀 | M682: =E682 -> 42417 | N682: =F682 -> 293
A683: 6546461 | B683: 6002 | C683: 101 | D683: 1412 | E683: 42422 | F683: 281 | I683: =A683 -> 6546461 | J683: =VLOOKUP(B683,赛道信息!$H:$I,2,FALSE) -> 网通大区 | K683: =VLOOKUP(C683,赛道信息!$B:$C,2,FALSE) -> 秒义速降 | L683: =VLOOKUP(D683,赛道信息!$E:$F,2,FALSE) -> 科尼塞克PD | M683: =E683 -> 42422 | N683: =F683 -> 281
A684: 帅气灬车皇 | B684: 6002 | C684: 101 | D684: 1421 | E684: 42432 | F684: 291 | I684: =A684 -> 帅气灬车皇 | J684: =VLOOKUP(B684,赛道信息!$H:$I,2,FALSE) -> 网通大区 | K684: =VLOOKUP(C684,赛道信息!$B:$C,2,FALSE) -> 秒义速降 | L684: =VLOOKUP(D684,赛道信息!$E:$F,2,FALSE) -> Veneno | M684: =E684 -> 42432 | N684: =F684 -> 291
A685: 波多Ye介意 | B685: 6002 | C685: 101 | D685: 1421 | E685: 42432 | F685: 284 | I685: =A685 -> 波多Ye介意 | J685: =VLOOKUP(B685,赛道信息!$H:$I,2,FALSE) -> 网通大区 | K685: =VLOOKUP(C685,赛道信息!$B:$C,2,FALSE) -> 秒义速降 | L685: =VLOOKUP(D685,赛道信息!$E:$F,2,FALSE) -> Veneno | M685: =E685 -> 42432 | N685: =F685 -> 284
A686: 风起尘埃落 | B686: 6002 | C686: 101 | D686: 1424 | E686: 42433 | F686: 293 | I686: =A686 -> 风起尘埃落 | J686: =VLOOKUP(B686,赛道信息!$H:$I,2,FALSE) -> 网通大区 | K686: =VLOOKUP(C686,赛道信息!$B:$C,2,FALSE) -> 秒义速降 | L686: =VLOOKUP(D686,赛道信息!$E:$F,2,FALSE) -> i8s | M686: =E686 -> 42433 | N686: =F686 -> 293
A687: 警vs匪 | B687: 6002 | C687: 101 | D687: 1422 | E687: 42448 | F687: 281 | I687: =A687 -> 警vs匪 | J687: =VLOOKUP(B687,赛道信息!$H:$I,2,FALSE) -> 网通大区 | K687: =VLOOKUP(C687,赛道信息!$B:$C,2,FALSE) -> 秒义速降 | L687: =VLOOKUP(D687,赛道信息!$E:$F,2,FALSE) -> 现代 | M687: =E687 -> 42448 | N687: =F687 -> 281
A688: 逆袭灬军刀 | B688: 6002 | C688: 101 | D688: 1419 | E688: 42469 | F688: 292 | I688: =A688 -> 逆袭灬军刀 | J688: =VLOOKUP(B688,赛道信息!$H:$I,2,FALSE) -> 网通大区 | K688: =VLOOKUP(C688,赛道信息!$B:$C,2,FALSE) -> 秒义速降 | L688: =VLOOKUP(D688,赛道信息!$E:$F,2,FALSE) -> 未来 | M688: =E688 -> 42469 | N688: =F688 -> 292
A689: 大鹏鹏02 | B689: 6002 | C689: 101 | D689: 1421 | E689: 42479 | F689: 290 | I689: =A689 -> 大鹏鹏02 | J689: =VLOOKUP(B689,赛道信息!$H:$I,2,FALSE) -> 网通大区 | K689: =VLOOKUP(C689,赛道信息!$B:$C,2,FALSE) -> 秒义速降 | L689: =VLOOKUP(D689,赛道信息!$E:$F,2,FALSE) -> Veneno | M689: =E689 -> 42479 | N689: =F689 -> 290
A690: UnfairCity | B690: 6002 | C690: 101 | D690: 1421 | E690: 42541 | F690: 299 | I690: =A690 -> UnfairCity | J690: =VLOOKUP(B690,赛道信息!$H:$I,2,FALSE) -> 网通大区 | K690: =VLOOKUP(C690,赛道信息!$B:$C,2,FALSE) -> 秒义速降 | L690: =VLOOKUP(D690,赛道信息!$E:$F,2,FALSE) -> Veneno | M690: =E690 -> 42541 | N690: =F690 -> 299
A691: 辽GG警0008 | B691: 6002 | C691: 101 | D691: 1418 | E691: 42542 | F691: 288 | I691: =A691 -> 辽GG警0008 | J691: =VLOOKUP(B691,赛道信息!$H:$I,2,FALSE) -> 网通大区 | K691: =VLOOKUP(C691,赛道信息!$B:$C,2,FALSE) -> 秒义速降 | L691: =VLOOKUP(D691,赛道信息!$E:$F,2,FALSE) -> 荣耀 | M691: =E691 -> 42542 | N691: =F691 -> 288
A692: 秋天回不来 | B692: 6002 | C692: 101 | D692: 1421 | E692: 42557 | F692: 290 | I692: =A692 -> 秋天回不来 | J692: =VLOOKUP(B692,赛道信息!$H:$I,2,FALSE) -> 网通大区 | K692: =VLOOKUP(C692,赛道信息!$B:$C,2,FALSE) -> 秒义速降 | L692: =VLOOKUP(D692,赛道信息!$E:$F,2,FALSE) -> Veneno | M692: =E692 -> 42557 | N692: =F692 -> 290
A693: 豫D789z6 | B693: 6002 | C693: 101 | D693: 1418 | E693: 42557 | F693: 286 | I693: =A693 -> 豫D789z6 | J693: =VLOOKUP(B693,赛道信息!$H:$I,2,FALSE) -> 网通大区 | K693: =VLOOKUP(C693,赛道信息!$B:$C,2,FALSE) -> 秒义速降 | L693: =VLOOKUP(D693,赛道信息!$E:$F,2,FALSE) -> 荣耀 | M693: =E693 -> 42557 | N693: =F693 -> 286
A694: cbd1997456 | B694: 6002 | C694: 101 | D694: 1418 | E694: 42572 | F694: 288 | I694: =A694 -> cbd1997456 | J694: =VLOOKUP(B694,赛道信息!$H:$I,2,FALSE) -> 网通大区 | K694: =VLOOKUP(C694,赛道信息!$B:$C,2,FALSE) -> 秒义速降 | L694: =VLOOKUP(D694,赛道信息!$E:$F,2,FALSE) -> 荣耀 | M694: =E694 -> 42572 | N694: =F694 -> 288
A695: 丶光之速丿 | B695: 6002 | C695: 101 | D695: 1419 | E695: 42572 | F695: 288 | I695: =A695 -> 丶光之速丿 | J695: =VLOOKUP(B695,赛道信息!$H:$I,2,FALSE) -> 网通大区 | K695: =VLOOKUP(C695,赛道信息!$B:$C,2,FALSE) -> 秒义速降 | L695: =VLOOKUP(D695,赛道信息!$E:$F,2,FALSE) -> 未来 | M695: =E695 -> 42572 | N695: =F695 -> 288
... A724: 闪烁大Q | B724: 6002 | C724: 101 | D724: 1421 | E724: 42985 | F724: 293 | I724: =A724 -> 闪烁大Q | J724: =VLOOKUP(B724,赛道信息!$H:$I,2,FALSE) -> 网通大区 | K724: =VLOOKUP(C724,赛道信息!$B:$C,2,FALSE) -> 秒义速降 | L724: =VLOOKUP(D724,赛道信息!$E:$F,2,FALSE) -> Veneno | M724: =E724 -> 42985 | N724: =F724 -> 293
A725: 3254697 | B725: 6002 | C725: 101 | D725: 1419 | E725: 42994 | F725: 282 | I725: =A725 -> 3254697 | J725: =VLOOKUP(B725,赛道信息!$H:$I,2,FALSE) -> 网通大区 | K725: =VLOOKUP(C725,赛道信息!$B:$C,2,FALSE) -> 秒义速降 | L725: =VLOOKUP(D725,赛道信息!$E:$F,2,FALSE) -> 未来 | M725: =E725 -> 42994 | N725: =F725 -> 282
A726: 暴怒迈克 | B726: 6002 | C726: 101 | D726: 1418 | E726: 42994 | F726: 296 | I726: =A726 -> 暴怒迈克 | J726: =VLOOKUP(B726,赛道信息!$H:$I,2,FALSE) -> 网通大区 | K726: =VLOOKUP(C726,赛道信息!$B:$C,2,FALSE) -> 秒义速降 | L726: =VLOOKUP(D726,赛道信息!$E:$F,2,FALSE) -> 荣耀 | M726: =E726 -> 42994 | N726: =F726 -> 296
A727: 唯美洛丽塔 | B727: 6002 | C727: 101 | D727: 1371 | E727: 43000 | F727: 288 | I727: =A727 -> 唯美洛丽塔 | J727: =VLOOKUP(B727,赛道信息!$H:$I,2,FALSE) -> 网通大区 | K727: =VLOOKUP(C727,赛道信息!$B:$C,2,FALSE) -> 秒义速降 | L727: =VLOOKUP(D727,赛道信息!$E:$F,2,FALSE) -> 奔驰 | M727: =E727 -> 43000 | N727: =F727 -> 288
A728: 小龙VS战神 | B728: 6002 | C728: 101 | D728: 1418 | E728: 43032 | F728: 287 | I728: =A728 -> 小龙VS战神 | J728: =VLOOKUP(B728,赛道信息!$H:$I,2,FALSE) -> 网通大区 | K728: =VLOOKUP(C728,赛道信息!$B:$C,2,FALSE) -> 秒义速降 | L728: =VLOOKUP(D728,赛道信息!$E:$F,2,FALSE) -> 荣耀 | M728: =E728 -> 43032 | N728: =F728 -> 287
A729: 口冂匚 | B729: 6002 | C729: 101 | D729: 1417 | E729: 43056 | F729: 279 | I729: =A729 -> 口冂匚 | J729: =VLOOKUP(B729,赛道信息!$H:$I,2,FALSE) -> 网通大区 | K729: =VLOOKUP(C729,赛道信息!$B:$C,2,FALSE) -> 秒义速降 | L729: =VLOOKUP(D729,赛道信息!$E:$F,2,FALSE) -> 速8-AMG | M729: =E729 -> 43056 | N729: =F729 -> 279
A730: 墓后煮屎人 | B730: 6002 | C730: 101 | D730: 1412 | E730: 43056 | F730: 284 | I730: =A730 -> 墓后煮屎人 | J730: =VLOOKUP(B730,赛道信息!$H:$I,2,FALSE) -> 网通大区 | K730: =VLOOKUP(C730,赛道信息!$B:$C,2,FALSE) -> 秒义速降 | L730: =VLOOKUP(D730,赛道信息!$E:$F,2,FALSE) -> 科尼塞克PD | M730: =E730 -> 43056 | N730: =F730 -> 284
A731: 一丨發丨一 | B731: 6002 | C731: 101 | D731: 1425 | E731: 43057 | F731: 278 | I731: =A731 -> 一丨發丨一 | J731: =VLOOKUP(B731,赛道信息!$H:$I,2,FALSE) -> 网通大区 | K731: =VLOOKUP(C731,赛道信息!$B:$C,2,FALSE) -> 秒义速降 | L731: =VLOOKUP(D731,赛道信息!$E:$F,2,FALSE) -> 淑女 | M731: =E731 -> 43057 | N731: =F731 -> 278
A732: 辽V00923 | B732: 6002 | C732: 101 | D732: 1421 | E732: 43072 | F732: 292 | I732: =A732 -> 辽V00923 | J732: =VLOOKUP(B732,赛道信息!$H:$I,2,FALSE) -> 网通大区 | K732: =VLOOKUP(C732,赛道信息!$B:$C,2,FALSE) -> 秒义速降 | L732: =VLOOKUP(D732,赛道信息!$E:$F,2,FALSE) -> Veneno | M732: =E732 -> 43072 | N732: =F732 -> 292
A733: 雷诺丨阿杜 | B733: 6002 | C733: 101 | D733: 1421 | E733: 43072 | F733: 279 | I733: =A733 -> 雷诺丨阿杜 | J733: =VLOOKUP(B733,赛道信息!$H:$I,2,FALSE) -> 网通大区 | K733: =VLOOKUP(C733,赛道信息!$B:$C,2,FALSE) -> 秒义速降 | L733: =VLOOKUP(D733,赛道信息!$E:$F,2,FALSE) -> Veneno | M733: =E733 -> 43072 | N733: =F733 -> 279
A734: 堕落灬御 | B734: 6002 | C734: 101 | D734: 1419 | E734: 43094 | F734: 293 | I734: =A734 -> 堕落灬御 | J734: =VLOOKUP(B734,赛道信息!$H:$I,2,FALSE) -> 网通大区 | K734: =VLOOKUP(C734,赛道信息!$B:$C,2,FALSE) -> 秒义速降 | L734: =VLOOKUP(D734,赛道信息!$E:$F,2,FALSE) -> 未来 | M734: =E734 -> 43094 | N734: =F734 -> 293
A735: 雷诺丨玩命 | B735: 6002 | C735: 101 | D735: 1419 | E735: 43119 | F735: 294 | I735: =A735 -> 雷诺丨玩命 | J735: =VLOOKUP(B735,赛道信息!$H:$I,2,FALSE) -> 网通大区 | K735: =VLOOKUP(C735,赛道信息!$B:$C,2,FALSE) -> 秒义速降 | L735: =VLOOKUP(D735,赛道信息!$E:$F,2,FALSE) -> 未来 | M735: =E735 -> 43119 | N735: =F735 -> 294
A736: 沈阳丨晓勇 | B736: 6002 | C736: 101 | D736: 1421 | E736: 43119 | F736: 280 | I736: =A736 -> 沈阳丨晓勇 | J736: =VLOOKUP(B736,赛道信息!$H:$I,2,FALSE) -> 网通大区 | K736: =VLOOKUP(C736,赛道信息!$B:$C,2,FALSE) -> 秒义速降 | L736: =VLOOKUP(D736,赛道信息!$E:$F,2,FALSE) -> Veneno | M736: =E736 -> 43119 | N736: =F736 -> 280
A737: Renault丶 | B737: 6002 | C737: 101 | D737: 1419 | E737: 43157 | F737: 286 | I737: =A737 -> Renault丶 | J737: =VLOOKUP(B737,赛道信息!$H:$I,2,FALSE) -> 网通大区 | K737: =VLOOKUP(C737,赛道信息!$B:$C,2,FALSE) -> 秒义速降 | L737: =VLOOKUP(D737,赛道信息!$E:$F,2,FALSE) -> 未来 | M737: =E737 -> 43157 | N737: =F737 -> 286
... A950: 雷诺丨有证 | B950: 6002 | C950: 101 | D950: 1422 | E950: 49437 | F950: 269 | I950: =A950 -> 雷诺丨有证 | J950: =VLOOKUP(B950,赛道信息!$H:$I,2,FALSE) -> 网通大区 | K950: =VLOOKUP(C950,赛道信息!$B:$C,2,FALSE) -> 秒义速降 | L950: =VLOOKUP(D950,赛道信息!$E:$F,2,FALSE) -> 现代 | M950: =E950 -> 49437 | N950: =F950 -> 269
A951: 478823 | B951: 6002 | C951: 101 | D951: 1421 | E951: 49499 | F951: 270 | I951: =A951 -> 478823 | J951: =VLOOKUP(B951,赛道信息!$H:$I,2,FALSE) -> 网通大区 | K951: =VLOOKUP(C951,赛道信息!$B:$C,2,FALSE) -> 秒义速降 | L951: =VLOOKUP(D951,赛道信息!$E:$F,2,FALSE) -> Veneno | M951: =E951 -> 49499 | N951: =F951 -> 270
A952: 太子夜华 | B952: 6002 | C952: 101 | D952: 1412 | E952: 49531 | F952: 275 | I952: =A952 -> 太子夜华 | J952: =VLOOKUP(B952,赛道信息!$H:$I,2,FALSE) -> 网通大区 | K952: =VLOOKUP(C952,赛道信息!$B:$C,2,FALSE) -> 秒义速降 | L952: =VLOOKUP(D952,赛道信息!$E:$F,2,FALSE) -> 科尼塞克PD | M952: =E952 -> 49531 | N952: =F952 -> 275
A953: 雪豹99999 | B953: 6002 | C953: 101 | D953: 1386 | E953: 49546 | F953: 245 | I953: =A953 -> 雪豹99999 | J953: =VLOOKUP(B953,赛道信息!$H:$I,2,FALSE) -> 网通大区 | K953: =VLOOKUP(C953,赛道信息!$B:$C,2,FALSE) -> 秒义速降 | L953: =VLOOKUP(D953,赛道信息!$E:$F,2,FALSE) -> 迈凯伦 | M953: =E953 -> 49546 | N953: =F953 -> 245
A954: KinG夜叉 | B954: 6002 | C954: 101 | D954: 1393 | E954: 49594 | F954: 249 | I954: =A954 -> KinG夜叉 | J954: =VLOOKUP(B954,赛道信息!$H:$I,2,FALSE) -> 网通大区 | K954: =VLOOKUP(C954,赛道信息!$B:$C,2,FALSE) -> 秒义速降 | L954: =VLOOKUP(D954,赛道信息!$E:$F,2,FALSE) -> 法拉利 | M954: =E954 -> 49594 | N954: =F954 -> 249
A955: 壹零贰玖 | B955: 6002 | C955: 101 | D955: 1419 | E955: 49624 | F955: 273 | I955: =A955 -> 壹零贰玖 | J955: =VLOOKUP(B955,赛道信息!$H:$I,2,FALSE) -> 网通大区 | K955: =VLOOKUP(C955,赛道信息!$B:$C,2,FALSE) -> 秒义速降 | L955: =VLOOKUP(D955,赛道信息!$E:$F,2,FALSE) -> 未来 | M955: =E955 -> 49624 | N955: =F955 -> 273
A956: 无形道 | B956: 6002 | C956: 101 | D956: 1387 | E956: 49624 | F956: 243 | I956: =A956 -> 无形道 | J956: =VLOOKUP(B956,赛道信息!$H:$I,2,FALSE) -> 网通大区 | K956: =VLOOKUP(C956,赛道信息!$B:$C,2,FALSE) -> 秒义速降 | L956: =VLOOKUP(D956,赛道信息!$E:$F,2,FALSE) -> 科尼塞克 | M956: =E956 -> 49624 | N956: =F956 -> 243
A957: CTR老刚 | B957: 6002 | C957: 101 | D957: 1346 | E957: 49625 | F957: 241 | I957: =A957 -> CTR老刚 | J957: =VLOOKUP(B957,赛道信息!$H:$I,2,FALSE) -> 网通大区 | K957: =VLOOKUP(C957,赛道信息!$B:$C,2,FALSE) -> 秒义速降 | L957: =VLOOKUP(D957,赛道信息!$E:$F,2,FALSE) -> R8 | M957: =E957 -> 49625 | N957: =F957 -> 241
A958: bk舒马赫 | B958: 6002 | C958: 101 | D958: 1390 | E958: 49671 | F958: 254 | I958: =A958 -> bk舒马赫 | J958: =VLOOKUP(B958,赛道信息!$H:$I,2,FALSE) -> 网通大区 | K958: =VLOOKUP(C958,赛道信息!$B:$C,2,FALSE) -> 秒义速降 | L958: =VLOOKUP(D958,赛道信息!$E:$F,2,FALSE) -> 雪铁龙 | M958: =E958 -> 49671 | N958: =F958 -> 254
A959: 苦涩de糖 | B959: 6002 | C959: 101 | D959: 1413 | E959: 49703 | F959: 262 | I959: =A959 -> 苦涩de糖 | J959: =VLOOKUP(B959,赛道信息!$H:$I,2,FALSE) -> 网通大区 | K959: =VLOOKUP(C959,赛道信息!$B:$C,2,FALSE) -> 秒义速降 | L959: =VLOOKUP(D959,赛道信息!$E:$F,2,FALSE) -> 海皇复刻 | M959: =E959 -> 49703 | N959: =F959 -> 262
A960: 鲁C7777777 | B960: 6002 | C960: 101 | D960: 1376 | E960: 49733 | F960: 238 | I960: =A960 -> 鲁C7777777 | J960: =VLOOKUP(B960,赛道信息!$H:$I,2,FALSE) -> 网通大区 | K960: =VLOOKUP(C960,赛道信息!$B:$C,2,FALSE) -> 秒义速降 | L960: =VLOOKUP(D960,赛道信息!$E:$F,2,FALSE) -> LP560-PD | M960: =E960 -> 49733 | N960: =F960 -> 238
A961: 辽苏5888 | B961: 6002 | C961: 101 | D961: 1408 | E961: 49734 | F961: 263 | I961: =A961 -> 辽苏5888 | J961: =VLOOKUP(B961,赛道信息!$H:$I,2,FALSE) -> 网通大区 | K961: =VLOOKUP(C961,赛道信息!$B:$C,2,FALSE) -> 秒义速降 | L961: =VLOOKUP(D961,赛道信息!$E:$F,2,FALSE) -> Laraki | M961: =E961 -> 49734 | N961: =F961 -> 263
A962: 豫南车王 | B962: 6002 | C962: 101 | D962: 1401 | E962: 49795 | F962: 237 | I962: =A962 -> 豫南车王 | J962: =VLOOKUP(B962,赛道信息!$H:$I,2,FALSE) -> 网通大区 | K962: =VLOOKUP(C962,赛道信息!$B:$C,2,FALSE) -> 秒义速降 | L962: =VLOOKUP(D962,赛道信息!$E:$F,2,FALSE) -> C-X75 | M962: =E962 -> 49795 | N962: =F962 -> 237
A963: 暴脾气九驾 | B963: 6002 | C963: 101 | D963: 1338 | E963: 49873 | F963: 261 | I963: =A963 -> 暴脾气九驾 | J963: =VLOOKUP(B963,赛道信息!$H:$I,2,FALSE) -> 网通大区 | K963: =VLOOKUP(C963,赛道信息!$B:$C,2,FALSE) -> 秒义速降 | L963: =VLOOKUP(D963,赛道信息!$E:$F,2,FALSE) -> 菲比 | M963: =E963 -> 49873 | N963: =F963 -> 261
A964: 吉A6688 | B964: 6002 | C964: 101 | D964: 1418 | E964: 49873 | F964: 275 | I964: =A964 -> 吉A6688 | J964: =VLOOKUP(B964,赛道信息!$H:$I,2,FALSE) -> 网通大区 | K964: =VLOOKUP(C964,赛道信息!$B:$C,2,FALSE) -> 秒义速降 | L964: =VLOOKUP(D964,赛道信息!$E:$F,2,FALSE) -> 荣耀 | M964: =E964 -> 49873 | N964: =F964 -> 275
A965: 716999 | B965: 6002 | C965: 101 | D965: 1401 | E965: 49905 | F965: 248 | I965: =A965 -> 716999 | J965: =VLOOKUP(B965,赛道信息!$H:$I,2,FALSE) -> 网通大区 | K965: =VLOOKUP(C965,赛道信息!$B:$C,2,FALSE) -> 秒义速降 | L965: =VLOOKUP(D965,赛道信息!$E:$F,2,FALSE) -> C-X75 | M965: =E965 -> 49905 | N965: =F965 -> 248
A966: 警L1919 | B966: 6002 | C966: 101 | D966: 1371 | E966: 49922 | F966: 267 | I966: =A966 -> 警L1919 | J966: =VLOOKUP(B966,赛道信息!$H:$I,2,FALSE) -> 网通大区 | K966: =VLOOKUP(C966,赛道信息!$B:$C,2,FALSE) -> 秒义速降 | L966: =VLOOKUP(D966,赛道信息!$E:$F,2,FALSE) -> 奔驰 | M966: =E966 -> 49922 | N966: =F966 -> 267
A967: 辽ACY567赛 | B967: 6002 | C967: 101 | D967: 1406 | E967: 49999 | F967: 262 | I967: =A967 -> 辽ACY567赛 | J967: =VLOOKUP(B967,赛道信息!$H:$I,2,FALSE) -> 网通大区 | K967: =VLOOKUP(C967,赛道信息!$B:$C,2,FALSE) -> 秒义速降 | L967: =VLOOKUP(D967,赛道信息!$E:$F,2,FALSE) -> 迈凯伦P1 | M967: =E967 -> 49999 | N967: =F967 -> 262
A968: 雷诺丨小Z | B968: 6002 | C968: 101 | D968: 1405 | E968: 50076 | F968: 261 | I968: =A968 -> 雷诺丨小Z | J968: =VLOOKUP(B968,赛道信息!$H:$I,2,FALSE) -> 网通大区 | K968: =VLOOKUP(C968,赛道信息!$B:$C,2,FALSE) -> 秒义速降 | L968: =VLOOKUP(D968,赛道信息!$E:$F,2,FALSE) -> 莲花II | M968: =E968 -> 50076 | N968: =F968 -> 261
A969: NeSas | B969: 6002 | C969: 101 | D969: 1390 | E969: 50108 | F969: 249 | I969: =A969 -> NeSas | J969: =VLOOKUP(B969,赛道信息!$H:$I,2,FALSE) -> 网通大区 | K969: =VLOOKUP(C969,赛道信息!$B:$C,2,FALSE) -> 秒义速降 | L969: =VLOOKUP(D969,赛道信息!$E:$F,2,FALSE) -> 雪铁龙 | M969: =E969 -> 50108 | N969: =F969 -> 249
A970: 贴地飞太快 | B970: 6002 | C970: 101 | D970: 1390 | E970: 50375 | F970: 241 | I970: =A970 -> 贴地飞太快 | J970: =VLOOKUP(B970,赛道信息!$H:$I,2,FALSE) -> 网通大区 | K970: =VLOOKUP(C970,赛道信息!$B:$C,2,FALSE) -> 秒义速降 | L970: =VLOOKUP(D970,赛道信息!$E:$F,2,FALSE) -> 雪铁龙 | M970: =E970 -> 50375 | N970: =F970 -> 241
A971: 辽K0088警 | B971: 6002 | C971: 101 | D971: 1408 | E971: 50515 | F971: 245 | I971: =A971 -> 辽K0088警 | J971: =VLOOKUP(B971,赛道信息!$H:$I,2,FALSE) -> 网通大区 | K971: =VLOOKUP(C971,赛道信息!$B:$C,2,FALSE) -> 秒义速降 | L971: =VLOOKUP(D971,赛道信息!$E:$F,2,FALSE) -> Laraki | M971: =E971 -> 50515 | N971: =F971 -> 245
A972: 雷诺丨1029 | B972: 6002 | C972: 101 | D972: 1405 | E972: 50607 | F972: 262 | I972: =A972 -> 雷诺丨1029 | J972: =VLOOKUP(B972,赛道信息!$H:$I,2,FALSE) -> 网通大区 | K972: =VLOOKUP(C972,赛道信息!$B:$C,2,FALSE) -> 秒义速降 | L972: =VLOOKUP(D972,赛道信息!$E:$F,2,FALSE) -> 莲花II | M972: =E972 -> 50607 | N972: =F972 -> 262
A973: 辽OCOO1警 | B973: 6002 | C973: 101 | D973: 1388 | E973: 50906 | F973: 247 | I973: =A973 -> 辽OCOO1警 | J973: =VLOOKUP(B973,赛道信息!$H:$I,2,FALSE) -> 网通大区 | K973: =VLOOKUP(C973,赛道信息!$B:$C,2,FALSE) -> 秒义速降 | L973: =VLOOKUP(D973,赛道信息!$E:$F,2,FALSE) -> i8 | M973: =E973 -> 50906 | N973: =F973 -> 247
A974: CTR无敌 | B974: 6002 | C974: 101 | D974: 1369 | E974: 50996 | F974: 240 | I974: =A974 -> CTR无敌 | J974: =VLOOKUP(B974,赛道信息!$H:$I,2,FALSE) -> 网通大区 | K974: =VLOOKUP(C974,赛道信息!$B:$C,2,FALSE) -> 秒义速降 | L974: =VLOOKUP(D974,赛道信息!$E:$F,2,FALSE) -> Z4 | M974: =E974 -> 50996 | N974: =F974 -> 240
A975: 冷VS风 | B975: 6002 | C975: 101 | D975: 1376 | E975: 51000 | F975: 245 | I975: =A975 -> 冷VS风 | J975: =VLOOKUP(B975,赛道信息!$H:$I,2,FALSE) -> 网通大区 | K975: =VLOOKUP(C975,赛道信息!$B:$C,2,FALSE) -> 秒义速降 | L975: =VLOOKUP(D975,赛道信息!$E:$F,2,FALSE) -> LP560-PD | M975: =E975 -> 51000 | N975: =F975 -> 245
A976: 晋D0009警 | B976: 6002 | C976: 101 | D976: 1390 | E976: 51078 | F976: 245 | I976: =A976 -> 晋D0009警 | J976: =VLOOKUP(B976,赛道信息!$H:$I,2,FALSE) -> 网通大区 | K976: =VLOOKUP(C976,赛道信息!$B:$C,2,FALSE) -> 秒义速降 | L976: =VLOOKUP(D976,赛道信息!$E:$F,2,FALSE) -> 雪铁龙 | M976: =E976 -> 51078 | N976: =F976 -> 245
A977: 吉DWD729 | B977: 6002 | C977: 101 | D977: 1418 | E977: 51091 | F977: 276 | I977: =A977 -> 吉DWD729 | J977: =VLOOKUP(B977,赛道信息!$H:$I,2,FALSE) -> 网通大区 | K977: =VLOOKUP(C977,赛道信息!$B:$C,2,FALSE) -> 秒义速降 | L977: =VLOOKUP(D977,赛道信息!$E:$F,2,FALSE) -> 荣耀 | M977: =E977 -> 51091 | N977: =F977 -> 276
... A980: 薄衫少年郎 | B980: 6002 | C980: 101 | D980: 1418 | E980: 51325 | F980: 265 | I980: =A980 -> 薄衫少年郎 | J980: =VLOOKUP(B980,赛道信息!$H:$I,2,FALSE) -> 网通大区 | K980: =VLOOKUP(C980,赛道信息!$B:$C,2,FALSE) -> 秒义速降 | L980: =VLOOKUP(D980,赛道信息!$E:$F,2,FALSE) -> 荣耀 | M980: =E980 -> 51325 | N980: =F980 -> 265
A981: 13841398 | B981: 6002 | C981: 101 | D981: 1393 | E981: 51449 | F981: 234 | I981: =A981 -> 13841398 | J981: =VLOOKUP(B981,赛道信息!$H:$I,2,FALSE) -> 网通大区 | K981: =VLOOKUP(C981,赛道信息!$B:$C,2,FALSE) -> 秒义速降 | L981: =VLOOKUP(D981,赛道信息!$E:$F,2,FALSE) -> 法拉利 | M981: =E981 -> 51449 | N981: =F981 -> 234
A982: CrazyOYE | B982: 6002 | C982: 101 | D982: 1390 | E982: 51543 | F982: 242 | I982: =A982 -> CrazyOYE | J982: =VLOOKUP(B982,赛道信息!$H:$I,2,FALSE) -> 网通大区 | K982: =VLOOKUP(C982,赛道信息!$B:$C,2,FALSE) -> 秒义速降 | L982: =VLOOKUP(D982,赛道信息!$E:$F,2,FALSE) -> 雪铁龙 | M982: =E982 -> 51543 | N982: =F982 -> 242
A983: 东北小猛男 | B983: 6002 | C983: 101 | D983: 1371 | E983: 51625 | F983: 262 | I983: =A983 -> 东北小猛男 | J983: =VLOOKUP(B983,赛道信息!$H:$I,2,FALSE) -> 网通大区 | K983: =VLOOKUP(C983,赛道信息!$B:$C,2,FALSE) -> 秒义速降 | L983: =VLOOKUP(D983,赛道信息!$E:$F,2,FALSE) -> 奔驰 | M983: =E983 -> 51625 | N983: =F983 -> 262
A984: 3738338 | B984: 6002 | C984: 101 | D984: 1369 | E984: 51636 | F984: 243 | I984: =A984 -> 3738338 | J984: =VLOOKUP(B984,赛道信息!$H:$I,2,FALSE) -> 网通大区 | K984: =VLOOKUP(C984,赛道信息!$B:$C,2,FALSE) -> 秒义速降 | L984: =VLOOKUP(D984,赛道信息!$E:$F,2,FALSE) -> Z4 | M984: =E984 -> 51636 | N984: =F984 -> 243
A985: 王老爷的车 | B985: 6002 | C985: 101 | D985: 1418 | E985: 51698 | F985: 283 | I985: =A985 -> 王老爷的车 | J985: =VLOOKUP(B985,赛道信息!$H:$I,2,FALSE) -> 网通大区 | K985: =VLOOKUP(C985,赛道信息!$B:$C,2,FALSE) -> 秒义速降 | L985: =VLOOKUP(D985,赛道信息!$E:$F,2,FALSE) -> 荣耀 | M985: =E985 -> 51698 | N985: =F985 -> 283
A986: Crazyboy | B986: 6002 | C986: 101 | D986: 1418 | E986: 51808 | F986: 275 | I986: =A986 -> Crazyboy | J986: =VLOOKUP(B986,赛道信息!$H:$I,2,FALSE) -> 网通大区 | K986: =VLOOKUP(C986,赛道信息!$B:$C,2,FALSE) -> 秒义速降 | L986: =VLOOKUP(D986,赛道信息!$E:$F,2,FALSE) -> 荣耀 | M986: =E986 -> 51808 | N986: =F986 -> 275
A987: 黑A25888 | B987: 6002 | C987: 101 | D987: 1421 | E987: 51860 | F987: 247 | I987: =A987 -> 黑A25888 | J987: =VLOOKUP(B987,赛道信息!$H:$I,2,FALSE) -> 网通大区 | K987: =VLOOKUP(C987,赛道信息!$B:$C,2,FALSE) -> 秒义速降 | L987: =VLOOKUP(D987,赛道信息!$E:$F,2,FALSE) -> Veneno | M987: =E987 -> 51860 | N987: =F987 -> 247
A988: 黑AK5678 | B988: 6002 | C988: 101 | D988: 1401 | E988: 51917 | F988: 257 | I988: =A988 -> 黑AK5678 | J988: =VLOOKUP(B988,赛道信息!$H:$I,2,FALSE) -> 网通大区 | K988: =VLOOKUP(C988,赛道信息!$B:$C,2,FALSE) -> 秒义速降 | L988: =VLOOKUP(D988,赛道信息!$E:$F,2,FALSE) -> C-X75 | M988: =E988 -> 51917 | N988: =F988 -> 257
A989: 扑倒一EXO | B989: 6002 | C989: 101 | D989: 1425 | E989: 51948 | F989: 261 | I989: =A989 -> 扑倒一EXO | J989: =VLOOKUP(B989,赛道信息!$H:$I,2,FALSE) -> 网通大区 | K989: =VLOOKUP(C989,赛道信息!$B:$C,2,FALSE) -> 秒义速降 | L989: =VLOOKUP(D989,赛道信息!$E:$F,2,FALSE) -> 淑女 | M989: =E989 -> 51948 | N989: =F989 -> 261
A990: 卡拉VS上帝 | B990: 6002 | C990: 101 | D990: 1425 | E990: 52089 | F990: 270 | I990: =A990 -> 卡拉VS上帝 | J990: =VLOOKUP(B990,赛道信息!$H:$I,2,FALSE) -> 网通大区 | K990: =VLOOKUP(C990,赛道信息!$B:$C,2,FALSE) -> 秒义速降 | L990: =VLOOKUP(D990,赛道信息!$E:$F,2,FALSE) -> 淑女 | M990: =E990 -> 52089 | N990: =F990 -> 270
A991: OZ冀E51668 | B991: 6002 | C991: 101 | D991: 1401 | E991: 52104 | F991: 236 | I991: =A991 -> OZ冀E51668 | J991: =VLOOKUP(B991,赛道信息!$H:$I,2,FALSE) -> 网通大区 | K991: =VLOOKUP(C991,赛道信息!$B:$C,2,FALSE) -> 秒义速降 | L991: =VLOOKUP(D991,赛道信息!$E:$F,2,FALSE) -> C-X75 | M991: =E991 -> 52104 | N991: =F991 -> 236
A992: 风吹落花随 | B992: 6002 | C992: 101 | D992: 1418 | E992: 52245 | F992: 256 | I992: =A992 -> 风吹落花随 | J992: =VLOOKUP(B992,赛道信息!$H:$I,2,FALSE) -> 网通大区 | K992: =VLOOKUP(C992,赛道信息!$B:$C,2,FALSE) -> 秒义速降 | L992: =VLOOKUP(D992,赛道信息!$E:$F,2,FALSE) -> 荣耀 | M992: =E992 -> 52245 | N992: =F992 -> 256
A993: 鲁KGP851 | B993: 6002 | C993: 101 | D993: 1412 | E993: 52573 | F993: 253 | I993: =A993 -> 鲁KGP851 | J993: =VLOOKUP(B993,赛道信息!$H:$I,2,FALSE) -> 网通大区 | K993: =VLOOKUP(C993,赛道信息!$B:$C,2,FALSE) -> 秒义速降 | L993: =VLOOKUP(D993,赛道信息!$E:$F,2,FALSE) -> 科尼塞克PD | M993: =E993 -> 52573 | N993: =F993 -> 253
A994: Mymusic | B994: 6002 | C994: 101 | D994: 1419 | E994: 52994 | F994: 298 | I994: =A994 -> Mymusic | J994: =VLOOKUP(B994,赛道信息!$H:$I,2,FALSE) -> 网通大区 | K994: =VLOOKUP(C994,赛道信息!$B:$C,2,FALSE) -> 秒义速降 | L994: =VLOOKUP(D994,赛道信息!$E:$F,2,FALSE) -> 未来 | M994: =E994 -> 52994 | N994: =F994 -> 298
A995: 战神副队 | B995: 6002 | C995: 101 | D995: 1390 | E995: 53165 | F995: 242 | I995: =A995 -> 战神副队 | J995: =VLOOKUP(B995,赛道信息!$H:$I,2,FALSE) -> 网通大区 | K995: =VLOOKUP(C995,赛道信息!$B:$C,2,FALSE) -> 秒义速降 | L995: =VLOOKUP(D995,赛道信息!$E:$F,2,FALSE) -> 雪铁龙 | M995: =E995 -> 53165 | N995: =F995 -> 242
A996: 山雨欲来 | B996: 6002 | C996: 101 | D996: 1380 | E996: 53196 | F996: 221 | I996: =A996 -> 山雨欲来 | J996: =VLOOKUP(B996,赛道信息!$H:$I,2,FALSE) -> 网通大区 | K996: =VLOOKUP(C996,赛道信息!$B:$C,2,FALSE) -> 秒义速降 | L996: =VLOOKUP(D996,赛道信息!$E:$F,2,FALSE) -> POLO | M996: =E996 -> 53196 | N996: =F996 -> 221
... A1008: 弃佛成魔 | B1008: 6002 | C1008: 101 | D1008: 1381 | E1008: 54593 | F1008: 230 | I1008: =A1008 -> 弃佛成魔 | J1008: =VLOOKUP(B1008,赛道信息!$H:$I,2,FALSE) -> 网通大区 | K1008: =VLOOKUP(C1008,赛道信息!$B:$C,2,FALSE) -> 秒义速降 | L1008: =VLOOKUP(D1008,赛道信息!$E:$F,2,FALSE) -> GT86 | M1008: =E1008 -> 54593 | N1008: =F1008 -> 230
A1009: 558888888 | B1009: 6002 | C1009: 101 | D1009: 1381 | E1009: 54647 | F1009: 197 | I1009: =A1009 -> 558888888 | J1009: =VLOOKUP(B1009,赛道信息!$H:$I,2,FALSE) -> 网通大区 | K1009: =VLOOKUP(C1009,赛道信息!$B:$C,2,FALSE) -> 秒义速降 | L1009: =VLOOKUP(D1009,赛道信息!$E:$F,2,FALSE) -> GT86 | M1009: =E1009 -> 54647 | N1009: =F1009 -> 197
A1010: 雷诺丨依茹 | B1010: 6002 | C1010: 101 | D1010: 1408 | E1010: 54725 | F1010: 270 | I1010: =A1010 -> 雷诺丨依茹 | J1010: =VLOOKUP(B1010,赛道信息!$H:$I,2,FALSE) -> 网通大区 | K1010: =VLOOKUP(C1010,赛道信息!$B:$C,2,FALSE) -> 秒义速降 | L1010: =VLOOKUP(D1010,赛道信息!$E:$F,2,FALSE) -> Laraki | M1010: =E1010 -> 54725 | N1010: =F1010 -> 270
A1011: 有证不开车 | B1011: 6002 | C1011: 101 | D1011: 1408 | E1011: 54834 | F1011: 246 | I1011: =A1011 -> 有证不开车 | J1011: =VLOOKUP(B1011,赛道信息!$H:$I,2,FALSE) -> 网通大区 | K1011: =VLOOKUP(C1011,赛道信息!$B:$C,2,FALSE) -> 秒义速降 | L1011: =VLOOKUP(D1011,赛道信息!$E:$F,2,FALSE) -> Laraki | M1011: =E1011 -> 54834 | N1011: =F1011 -> 246
A1012: 辽D168888 | B1012: 6002 | C1012: 101 | D1012: 1381 | E1012: 55063 | F1012: 206 | I1012: =A1012 -> 辽D168888 | J1012: =VLOOKUP(B1012,赛道信息!$H:$I,2,FALSE) -> 网通大区 | K1012: =VLOOKUP(C1012,赛道信息!$B:$C,2,FALSE) -> 秒义速降 | L1012: =VLOOKUP(D1012,赛道信息!$E:$F,2,FALSE) -> GT86 | M1012: =E1012 -> 55063 | N1012: =F1012 -> 206
A1013: 小帅VS上帝 | B1013: 6002 | C1013: 101 | D1013: 1425 | E1013: 55521 | F1013: 249 | I1013: =A1013 -> 小帅VS上帝 | J1013: =VLOOKUP(B1013,赛道信息!$H:$I,2,FALSE) -> 网通大区 | K1013: =VLOOKUP(C1013,赛道信息!$B:$C,2,FALSE) -> 秒义速降 | L1013: =VLOOKUP(D1013,赛道信息!$E:$F,2,FALSE) -> 淑女 | M1013: =E1013 -> 55521 | N1013: =F1013 -> 249
A1014: mjg6688 | B1014: 6002 | C1014: 101 | D1014: 1360 | E1014: 55708 | F1014: 217 | I1014: =A1014 -> mjg6688 | J1014: =VLOOKUP(B1014,赛道信息!$H:$I,2,FALSE) -> 网通大区 | K1014: =VLOOKUP(C1014,赛道信息!$B:$C,2,FALSE) -> 秒义速降 | L1014: =VLOOKUP(D1014,赛道信息!$E:$F,2,FALSE) -> F458 | M1014: =E1014 -> 55708 | N1014: =F1014 -> 217
A1015: 冀HP8888 | B1015: 6002 | C1015: 101 | D1015: 1362 | E1015: 55734 | F1015: 223 | I1015: =A1015 -> 冀HP8888 | J1015: =VLOOKUP(B1015,赛道信息!$H:$I,2,FALSE) -> 网通大区 | K1015: =VLOOKUP(C1015,赛道信息!$B:$C,2,FALSE) -> 秒义速降 | L1015: =VLOOKUP(D1015,赛道信息!$E:$F,2,FALSE) -> KC-XGZ | M1015: =E1015 -> 55734 | N1015: =F1015 -> 223
A1016: 卡拉笨笨猪 | B1016: 6002 | C1016: 101 | D1016: 1425 | E1016: 55879 | F1016: 272 | I1016: =A1016 -> 卡拉笨笨猪 | J1016: =VLOOKUP(B1016,赛道信息!$H:$I,2,FALSE) -> 网通大区 | K1016: =VLOOKUP(C1016,赛道信息!$B:$C,2,FALSE) -> 秒义速降 | L1016: =VLOOKUP(D1016,赛道信息!$E:$F,2,FALSE) -> 淑女 | M1016: =E1016 -> 55879 | N1016: =F1016 -> 272
A1017: 雷诺丨亡者 | B1017: 6002 | C1017: 101 | D1017: 1418 | E1017: 55988 | F1017: 174 | I1017: =A1017 -> 雷诺丨亡者 | J1017: =VLOOKUP(B1017,赛道信息!$H:$I,2,FALSE) -> 网通大区 | K1017: =VLOOKUP(C1017,赛道信息!$B:$C,2,FALSE) -> 秒义速降 | L1017: =VLOOKUP(D1017,赛道信息!$E:$F,2,FALSE) -> 荣耀 | M1017: =E1017 -> 55988 | N1017: =F1017 -> 174
...

Sheet 分服TOP
A1: USER_ID | B1: GAMEDOMAINID | C1: MAP | D1: CARCODE | E1: BESTTIME | F1: BESTSPEED | I1: 角色名 | J1: 服务器 | K1: 地图 | L1: 车型 | M1: 最快成绩 | N1: 最快车速
A2: 冀B60953 | B2: 6002 | C2: 6 | D2: 1421 | E2: 89156 | F2: 326 | I2: =A2 -> 冀B60953 | J2: =VLOOKUP(B2,赛道信息!$H:$I,2,FALSE) -> 网通大区 | K2: =VLOOKUP(C2,赛道信息!$B$1:$C$37,2,FALSE) -> 十色霓虹 | L2: =VLOOKUP(D2,赛道信息!$E$1:$F$200,2,FALSE) -> Veneno | M2: =E2 -> 89156 | N2: =F2 -> 326
A3: 冰舞凤凰 | B3: 6004 | C3: 6 | D3: 1421 | E3: 87563 | F3: 324 | I3: =A3 -> 冰舞凤凰 | J3: =VLOOKUP(B3,赛道信息!$H:$I,2,FALSE) -> 电信2/新电信 | K3: =VLOOKUP(C3,赛道信息!$B$1:$C$37,2,FALSE) -> 十色霓虹 | L3: =VLOOKUP(D3,赛道信息!$E$1:$F$200,2,FALSE) -> Veneno | M3: =E3 -> 87563 | N3: =F3 -> 324
A4: WheThesky | B4: 6005 | C4: 6 | D4: 1421 | E4: 86784 | F4: 324 | I4: =A4 -> WheThesky | J4: =VLOOKUP(B4,赛道信息!$H:$I,2,FALSE) -> 电信1 | K4: =VLOOKUP(C4,赛道信息!$B$1:$C$37,2,FALSE) -> 十色霓虹 | L4: =VLOOKUP(D4,赛道信息!$E$1:$F$200,2,FALSE) -> Veneno | M4: =E4 -> 86784 | N4: =F4 -> 324
A5: BenZ丶晓旭 | B5: 6002 | C5: 7 | D5: 1421 | E5: 88515 | F5: 324 | I5: =A5 -> BenZ丶晓旭 | J5: =VLOOKUP(B5,赛道信息!$H:$I,2,FALSE) -> 网通大区 | K5: =VLOOKUP(C5,赛道信息!$B$1:$C$37,2,FALSE) -> 十色霓虹逆行 | L5: =VLOOKUP(D5,赛道信息!$E$1:$F$200,2,FALSE) -> Veneno | M5: =E5 -> 88515 | N5: =F5 -> 324
A6: Dasmeer | B6: 6004 | C6: 7 | D6: 1421 | E6: 87922 | F6: 324 | I6: =A6 -> Dasmeer | J6: =VLOOKUP(B6,赛道信息!$H:$I,2,FALSE) -> 电信2/新电信 | K6: =VLOOKUP(C6,赛道信息!$B$1:$C$37,2,FALSE) -> 十色霓虹逆行 | L6: =VLOOKUP(D6,赛道信息!$E$1:$F$200,2,FALSE) -> Veneno | M6: =E6 -> 87922 | N6: =F6 -> 324
A7: 小当家 | B7: 6005 | C7: 7 | D7: 1421 | E7: 86206 | F7: 325 | I7: =A7 -> 小当家 | J7: =VLOOKUP(B7,赛道信息!$H:$I,2,FALSE) -> 电信1 | K7: =VLOOKUP(C7,赛道信息!$B$1:$C$37,2,FALSE) -> 十色霓虹逆行 | L7: =VLOOKUP(D7,赛道信息!$E$1:$F$200,2,FALSE) -> Veneno | M7: =E7 -> 86206 | N7: =F7 -> 325
A8: BenZ丶晓旭 | B8: 6002 | C8: 8 | D8: 1421 | E8: 108764 | F8: 325 | I8: =A8 -> BenZ丶晓旭 | J8: =VLOOKUP(B8,赛道信息!$H:$I,2,FALSE) -> 网通大区 | K8: =VLOOKUP(C8,赛道信息!$B$1:$C$37,2,FALSE) -> 霓虹飞跃 | L8: =VLOOKUP(D8,赛道信息!$E$1:$F$200,2,FALSE) -> Veneno | M8: =E8 -> 108764 | N8: =F8 -> 325
A9: Dasmeer | B9: 6004 | C9: 8 | D9: 1421 | E9: 108234 | F9: 324 | I9: =A9 -> Dasmeer | J9: =VLOOKUP(B9,赛道信息!$H:$I,2,FALSE) -> 电信2/新电信 | K9: =VLOOKUP(C9,赛道信息!$B$1:$C$37,2,FALSE) -> 霓虹飞跃 | L9: =VLOOKUP(D9,赛道信息!$E$1:$F$200,2,FALSE) -> Veneno | M9: =E9 -> 108234 | N9: =F9 -> 324
A10: 風驰電掣 | B10: 6005 | C10: 8 | D10: 1421 | E10: 105831 | F10: 325 | I10: =A10 -> 風驰電掣 | J10: =VLOOKUP(B10,赛道信息!$H:$I,2,FALSE) -> 电信1 | K10: =VLOOKUP(C10,赛道信息!$B$1:$C$37,2,FALSE) -> 霓虹飞跃 | L10: =VLOOKUP(D10,赛道信息!$E$1:$F$200,2,FALSE) -> Veneno | M10: =E10 -> 105831 | N10: =F10 -> 325
A11: 玉都o小鱼 | B11: 6002 | C11: 9 | D11: 1419 | E11: 92641 | F11: 321 | I11: =A11 -> 玉都o小鱼 | J11: =VLOOKUP(B11,赛道信息!$H:$I,2,FALSE) -> 网通大区 | K11: =VLOOKUP(C11,赛道信息!$B$1:$C$37,2,FALSE) -> 雪映霓虹逆行 | L11: =VLOOKUP(D11,赛道信息!$E$1:$F$200,2,FALSE) -> 未来 | M11: =E11 -> 92641 | N11: =F11 -> 321
A12: CrazyMouse | B12: 6004 | C12: 9 | D12: 1421 | E12: 90059 | F12: 323 | I12: =A12 -> CrazyMouse | J12: =VLOOKUP(B12,赛道信息!$H:$I,2,FALSE) -> 电信2/新电信 | K12: =VLOOKUP(C12,赛道信息!$B$1:$C$37,2,FALSE) -> 雪映霓虹逆行 | L12: =VLOOKUP(D12,赛道信息!$E$1:$F$200,2,FALSE) -> Veneno | M12: =E12 -> 90059 | N12: =F12 -> 323
A13: 恶魔小穆丶 | B13: 6005 | C13: 9 | D13: 1409 | E13: 90578 | F13: 321 | I13: =A13 -> 恶魔小穆丶 | J13: =VLOOKUP(B13,赛道信息!$H:$I,2,FALSE) -> 电信1 | K13: =VLOOKUP(C13,赛道信息!$B$1:$C$37,2,FALSE) -> 雪映霓虹逆行 | L13: =VLOOKUP(D13,赛道信息!$E$1:$F$200,2,FALSE) -> 巨蜥S | M13: =E13 -> 90578 | N13: =F13 -> 321
... A109: 安第斯之风 | B109: 6005 | C109: 113 | D109: 1131 | E109: 116158 | F109: 230 | I109: =A109 -> 安第斯之风 | J109: =VLOOKUP(B109,赛道信息!$H:$I,2,FALSE) -> 电信1 | K109: =VLOOKUP(C109,赛道信息!$B$1:$C$37,2,FALSE) -> 尹吕陂速降 | L109: =VLOOKUP(D109,赛道信息!$E$1:$F$200,2,FALSE) -> GT-APEX | M109: =E109 -> 116158 | N109: =F109 -> 230

Sheet 赛道信息
B1: 赛道代码 | C1: 赛道名称 | E1: 代码 | F1: 道 具 名 称 | H1: GAMEDOMAINID | I1: 服务器
B2: 6 | C2: 十色霓虹 | E2: 1002 | F2: 火星 | H2: 6002 | I2: 网通大区
B3: 7 | C3: 十色霓虹逆行 | E3: 1003 | F3: 水星 | H3: 6004 | I3: 电信2/新电信
B4: 8 | C4: 霓虹飞跃 | E4: 1005 | F4: 乐途 | H4: 6005 | I4: 电信1
B5: 9 | C5: 雪映霓虹逆行 | E5: 1007 | F5: 风神
B6: 10 | C6: 雪映霓虹 | E6: 1009 | F6: 海王星
B7: 11 | C7: 弯曲草地 | E7: 1010 | F7: 金星
B8: 12 | C8: 弯曲草地逆行 | E8: 1011 | F8: 锐虎
B9: 14 | C9: 飘雪草地逆行 | E9: 1012 | F9: 锦程
B10: 15 | C10: 飘雪草地 | E10: 1013 | F10: 赤虎
B11: 16 | C11: 悬崖追逐 | E11: 1014 | F11: 炫速
B12: 17 | C12: 悬崖追逐逆行 | E12: 1015 | F12: 迅驰
B13: 21 | C13: 极速传说 | E13: 1102 | F13: 射手
B14: 26 | C14: 江南 | E14: 1104 | F14: 猎户
B15: 31 | C15: 极速越野 | E15: 1105 | F15: 巨蟹
B16: 32 | C16: 越野狂飚 | E16: 1107 | F16: 摩羯
... B37: 113 | C37: 尹吕陂速降 | E37: 1209 | F37: 幻鹰
E38: 1210 | F38: 龙腾
E39: 1211 | F39: 疾锋
E40: 1301 | F40: 帕里斯
E41: 1302 | F41: 米诺斯
E42: 1303 | F42: 的士
E43: 1304 | F43: 布莱特
E44: 1305 | F44: 厄里斯
E45: 1306 | F45: CTR-PDII
E46: 1307 | F46: CTR-S3
E47: 1308 | F47: 蓝瑟Ⅰ
E48: 1309 | F48: F330II
E49: 1310 | F49: 俊特
... E110: 1378 | F110: 土豪·金
E111: 1379 | F111: 911
E112: 1380 | F112: POLO
E113: 1381 | F113: GT86
E114: 1382 | F114: A8
E115: 1383 | F115: GT86-PD
E116: 1384 | F116: Zonda
E117: 1385 | F117: Zonda-pd
E118: 1386 | F118: 迈凯伦
E119: 1387 | F119: 科尼塞克
E120: 1949 | F120: 红旗·领袖
E121: 1391 | F121: 科鲁兹
E122: 1388 | F122: i8
E123: 1392 | F123: SMART
... E165: 1426 | F165: 宝藏
